BEGIN:VCALENDAR
VERSION:2.0
PRODID:-//Alianza Francesa de Guayaquil - ECPv6.15.20//NONSGML v1.0//EN
CALSCALE:GREGORIAN
METHOD:PUBLISH
X-ORIGINAL-URL:https://afguayaquil.org.ec/af
X-WR-CALDESC:Eventos para Alianza Francesa de Guayaquil
REFRESH-INTERVAL;VALUE=DURATION:PT1H
X-Robots-Tag:noindex
X-PUBLISHED-TTL:PT1H
BEGIN:VTIMEZONE
TZID:America/Lima
BEGIN:STANDARD
TZOFFSETFROM:-0500
TZOFFSETTO:-0500
TZNAME:-05
DTSTART:20240101T000000
END:STANDARD
END:VTIMEZONE
BEGIN:VEVENT
DTSTART;VALUE=DATE:20250906
DTEND;VALUE=DATE:20250907
DTSTAMP:20260420T161032
CREATED:20250821T035055Z
LAST-MODIFIED:20250821T043302Z
UID:6289-1757116800-1757203199@afguayaquil.org.ec
SUMMARY:Cursos de Francés los Sábados en Sambo
DESCRIPTION:Cursos de Francés los Sábados \n✨ ¡Tu sábado puede ser diferente: aprende francés! \nInicio: sábado 6 de septiembre\nHorario: de 14h00 a 18h00\nModalidad: presencial\nSede: Samborondón\n‍ Para jóvenes y adultos desde los 15 años \nConvierte tus fines de semana en una inversión para tu futuro .\n¡El francés te abrirá puertas a la cultura\, los viajes y nuevas oportunidades! ✨ \nEscríbenos al ‪‪+593 99 780 7922‬‬ y reserva tu cupo. \nVer todos los próximos cursos para Adultos >>
URL:https://afguayaquil.org.ec/af/event/cursos-de-frances-los-sabados-en-sambo/
LOCATION:Samborondon\, Samborondon\, Guayas\, Ecuador
CATEGORIES:Cursos,Educativo
ATTACH;FMTTYPE=image/png:https://afguayaquil.org.ec/af/wp-content/uploads/2025/08/4_Sabado_Adultos-Sambo.png
END:VEVENT
BEGIN:VEVENT
DTSTART;VALUE=DATE:20250909
DTEND;VALUE=DATE:20250910
DTSTAMP:20260420T161032
CREATED:20250825T172538Z
LAST-MODIFIED:20250828T052316Z
UID:6347-1757376000-1757462399@afguayaquil.org.ec
SUMMARY:Próximos cursos de francés para adultos
DESCRIPTION:Próximos cursos de francés para adultos \n✨ ¡Aprender francés es abrir tu pasaporte a nuevas oportunidades! \nInicio de clases: 9 de septiembre\nHorarios flexibles: mañana\, tarde y noche\nModalidades: presencial y online\nSedes: Urdesa\, Centro y Samborondón\n‍ Para jóvenes y adultos a partir de 15 años \nImagina presentarte al mundo hablando francés\, explorando culturas\, viajando\, estudiando o trabajando sin fronteras. \nEl futuro está a una decisión de distancia…\nEscríbenos al ‪‪+593 99 780 7922‬‬ y da el primer paso hoy mismo. \nVer todos los cursos disponibles>>>
URL:https://afguayaquil.org.ec/af/event/proximos-cursos-de-frances-para-adultos/
LOCATION:Centro\, Urdesa y Samborondon
CATEGORIES:Cursos,Educativo
ATTACH;FMTTYPE=image/jpeg:https://afguayaquil.org.ec/af/wp-content/uploads/2025/08/cursos-de-frances-adultos-septiembre-1-e1756358583505.jpeg
END:VEVENT
BEGIN:VEVENT
DTSTART;VALUE=DATE:20250915
DTEND;VALUE=DATE:20251018
DTSTAMP:20260420T161032
CREATED:20250915T175019Z
LAST-MODIFIED:20250915T175241Z
UID:6363-1757894400-1760745599@afguayaquil.org.ec
SUMMARY:INSCRIPCIONES DELF/DALF ABIERTAS
DESCRIPTION:INSCRIPCIONES DELF/DALF ABIERTAS \n¡Desde el 15 de septiembre hasta el 17 de octubre!Obtén tu certificación oficial de francés con los exámenes DELF/DALF.\nFechas de exámenes: del 11 al 14 de noviembre \n¿Vas a rendir el DELF B1 o B2 y no tienes tiempo para estudiar?\nCon nuestra plataforma PrepMyFuture puedes prepararte desde cualquier lugar y a cualquier hora:\n✔ De forma autónoma\n✔ O con tutorías guiadas\n✔ Acceso ilimitado por 1 año\n \n☝ Solo necesitas una computadora con internet.\nNo hay excusas. ¡Es tu momento de certificar tu francés! \nMás información al: ‪+593 99 780 7922‬
URL:https://afguayaquil.org.ec/af/event/inscripciones-delf-dalf-abiertas-2/
LOCATION:Centro\, Urdesa y Samborondon
CATEGORIES:Cursos,Educativo,Informativo
ATTACH;FMTTYPE=image/png:https://afguayaquil.org.ec/af/wp-content/uploads/2025/09/DELF-e1757959587747.png
END:VEVENT
BEGIN:VEVENT
DTSTART;VALUE=DATE:20250920
DTEND;VALUE=DATE:20251008
DTSTAMP:20260420T161032
CREATED:20250920T181929Z
LAST-MODIFIED:20251007T011104Z
UID:6399-1758326400-1759881599@afguayaquil.org.ec
SUMMARY:Cursos de francés para adultos octubre
DESCRIPTION:Próximos cursos de francés para adultos \n✨ ¡Aprender francés es abrir tu pasaporte a nuevas oportunidades! \nInicio de clases: 7 de octubre\nHorarios flexibles: mañana\, tarde y noche\nModalidades: presencial y online\nSedes: Urdesa · Samborondón\nDirigido a jóvenes y adultos desde 15 años \nAtrévete a soñar en otro idioma: viaja\, estudia\, trabaja y descubre el mundo sin fronteras. \nEl mejor momento para empezar es ahora.\nEscríbenos al ‪‪+593 99 780 7922‬‬ y da el primer paso hoy mismo. \n   \n \nTambién puedes revisar: \nCursos de Adolescentes\nCursos para niños
URL:https://afguayaquil.org.ec/af/event/proximos-cursos-de-frances-para-adultos-octubre/
LOCATION:Centro\, Urdesa y Samborondon
CATEGORIES:Cursos,Educativo
ATTACH;FMTTYPE=image/png:https://afguayaquil.org.ec/af/wp-content/uploads/2025/09/proximos-cursos-de-frances-adultos--e1758392530890.png
END:VEVENT
BEGIN:VEVENT
DTSTART;VALUE=DATE:20250920
DTEND;VALUE=DATE:20251022
DTSTAMP:20260420T161032
CREATED:20250920T190528Z
LAST-MODIFIED:20251007T011335Z
UID:6404-1758326400-1761091199@afguayaquil.org.ec
SUMMARY:Cursos de Francés para adolescentes en octubre
DESCRIPTION:Cursos de Francés para adolescentes en octubre\n\n✨ El francés es el nuevo superpoder de los adolescentes ✨ \n‍‍ ¿Su hijo o hija tiene entre 11 y 14 años y quiere aprender un nuevo idioma? ¡Este es el momento perfecto para comenzar francés! \nInicio de clases: 18 o 21 de octubre\nHorarios: tarde\nModalidad: presencial\nSedes: Urdesa · Samborondón \nEn un entorno estimulante\, estructurado y diseñado para potenciar sus habilidades lingüísticas y culturales. \nMás información al: ‪+593 99 780 7922‬ \n\n  \n\n\nCursos para Adultos\nCursos para niños
URL:https://afguayaquil.org.ec/af/event/cursos-de-frances-para-adolescentes-en-octubre/
LOCATION:Urdesa y Samborondon
CATEGORIES:Cursos,Educativo
ATTACH;FMTTYPE=image/png:https://afguayaquil.org.ec/af/wp-content/uploads/2025/09/proximos-cursos-de-frances-adolescentes-e1758396157949.png
END:VEVENT
BEGIN:VEVENT
DTSTART;VALUE=DATE:20250920
DTEND;VALUE=DATE:20251022
DTSTAMP:20260420T161032
CREATED:20250920T191510Z
LAST-MODIFIED:20251007T010953Z
UID:6409-1758326400-1761091199@afguayaquil.org.ec
SUMMARY:Cursos de Francés para niños en octubre
DESCRIPTION:Cursos de Francés para niños en octubre Aprende Frances \n✨ ¡El francés para los más pequeños está aquí! \n¿Su hijo o hija tiene entre 7 y 10 años? En nuestras clases diseñadas especialmente para niños\, podrán dar sus primeros pasos en el idioma francés de forma natural y progresiva. \nInicio de clases: 18 o 21 de octubre\nHorarios: tarde\nModalidad: presencial\nSedes: Urdesa y Samborondón \nUn entorno estimulante y seguro para que descubran el idioma francés desde temprana edad\, mientras desarrollan nuevas habilidades. \nMás información al: ‪+593 99 780 7922‬ \n  \nTambién puedes revisar: \nCursos de Adolescentes\nCursos para adultos
URL:https://afguayaquil.org.ec/af/event/cursos-de-frances-para-ninos-en-octubre/
LOCATION:Urdesa y Samborondon
CATEGORIES:Cursos,Educativo
ATTACH;FMTTYPE=image/png:https://afguayaquil.org.ec/af/wp-content/uploads/2025/09/proximos-cursos-de-frances-ninos-1-e1758396331860.png
END:VEVENT
BEGIN:VEVENT
DTSTART;TZID=America/Lima:20250920T160000
DTEND;TZID=America/Lima:20250920T180000
DTSTAMP:20260420T161032
CREATED:20250909T211639Z
LAST-MODIFIED:20250909T211639Z
UID:6360-1758384000-1758391200@afguayaquil.org.ec
SUMMARY:TARDE DE CLOWNS con la Fundación Narices Rojas
DESCRIPTION:✨ TARDE DE CLOWNS con la Fundación Narices Rojas  \n Sábado 20 de septiembre 2025\n 16h00\n Alianza Francesa – Sede Centro (Miguel Hurtado Antonio 436) \n Valor: $10\n Preventa: $8 (hasta el 16/09)\n Estudiantes AFG: $7 (en cajas de la Alianza Francesa)\n(no incluye comisiones de meet2go) \nUn show de varieté lleno de humor y ternura:\n un payaso estresado en la oficina\n una payasa buscando empleo\n un duelo musical vibrante \n ¡Risas y complicidad para toda la familia! \n Entradas: https://www.meet2go.com/ev/tardedeclowns o en la Alianza Francesa (Centro y Samborondón).
URL:https://afguayaquil.org.ec/af/event/tarde-de-clowns-con-la-fundacion-narices-rojas/
LOCATION:Centro\, Hurtado 436 y jose mascote\, Guayaquil\, Guayas\, Ecuador
CATEGORIES:Cultura,Entretenimiento
ATTACH;FMTTYPE=image/png:https://afguayaquil.org.ec/af/wp-content/uploads/2025/09/Evento-Narices-Rojas-3.png
END:VEVENT
END:VCALENDAR