BEGIN:VCALENDAR
VERSION:2.0
PRODID:-//Alianza Francesa de Guayaquil - ECPv6.15.20//NONSGML v1.0//EN
CALSCALE:GREGORIAN
METHOD:PUBLISH
X-ORIGINAL-URL:https://afguayaquil.org.ec/af
X-WR-CALDESC:Eventos para Alianza Francesa de Guayaquil
REFRESH-INTERVAL;VALUE=DURATION:PT1H
X-Robots-Tag:noindex
X-PUBLISHED-TTL:PT1H
BEGIN:VTIMEZONE
TZID:America/Lima
BEGIN:STANDARD
TZOFFSETFROM:-0500
TZOFFSETTO:-0500
TZNAME:-05
DTSTART:20240101T000000
END:STANDARD
END:VTIMEZONE
BEGIN:VEVENT
DTSTART;VALUE=DATE:20250719
DTEND;VALUE=DATE:20250801
DTSTAMP:20260422T003102
CREATED:20250719T214451Z
LAST-MODIFIED:20250719T214451Z
UID:6223-1752883200-1754006399@afguayaquil.org.ec
SUMMARY:Exposición “Recolectar los conceptos de la vida”
DESCRIPTION:¡La exposición “Recolectar los conceptos de la vida” te invita a vivir una experiencia única!\nUna exposición de Alets Sánchez Alarcón @alets_alarcon.  \nTe compartimos la agenda de actividades que hemos preparado en la Galería de la Alianza Francesa de Guayaquil\, Sede Centro\, para que no te pierdas nada: \n Inauguración: 21 de julio | 17:00 | Entrada libre | Galería Centro\n Visita guiada #1: 22 de julio | 16:00 | Entrada libre | Galería Centro\n Visita guiada #2: 23 de julio | 16:00 | Entrada libre | Galería Centro\n Taller del café y cierre de la exposición: 31 de julio | 16:00 | Entrada libre | Galería Centro \n ¡No te lo pierdas!\n¡Te esperamos para disfrutar del arte y la cultura! ✨
URL:https://afguayaquil.org.ec/af/event/exposicion-recolectar-los-conceptos-de-la-vida/
LOCATION:Centro\, Hurtado 436 y jose mascote\, Guayaquil\, Guayas\, Ecuador
CATEGORIES:Cultura,Entretenimiento,Informativo
ATTACH;FMTTYPE=image/png:https://afguayaquil.org.ec/af/wp-content/uploads/2025/07/Programacion-Cultural-AFG-2025-5.png
END:VEVENT
END:VCALENDAR