BEGIN:VCALENDAR
VERSION:2.0
PRODID:-//Alianza Francesa de Guayaquil - ECPv6.15.20//NONSGML v1.0//EN
CALSCALE:GREGORIAN
METHOD:PUBLISH
X-ORIGINAL-URL:https://afguayaquil.org.ec/af
X-WR-CALDESC:Eventos para Alianza Francesa de Guayaquil
REFRESH-INTERVAL;VALUE=DURATION:PT1H
X-Robots-Tag:noindex
X-PUBLISHED-TTL:PT1H
BEGIN:VTIMEZONE
TZID:America/Lima
BEGIN:STANDARD
TZOFFSETFROM:-0500
TZOFFSETTO:-0500
TZNAME:-05
DTSTART:20240101T000000
END:STANDARD
END:VTIMEZONE
BEGIN:VEVENT
DTSTART;VALUE=DATE:20250712
DTEND;VALUE=DATE:20250719
DTSTAMP:20260422T022339
CREATED:20250713T022950Z
LAST-MODIFIED:20250713T023259Z
UID:6207-1752278400-1752883199@afguayaquil.org.ec
SUMMARY:¡Julio a la Francesa!
DESCRIPTION:✨ \nEl 18 de julio\, ¡celebremos juntos la Fiesta Nacional de Francia! \nAlianza Francesa de Samborondón\nDe 17h30 a 20h00 \nTres espacios:\nJuegos de mesa\nKaraoke\nDegustación \n‍ Si cocina una especialidad francesa y la trae ese día ¡Recibe un 10% de descuento en el siguiente módulo! \n#JulioALaFrancesa #FiestaNacionalFrancesa #AlianzaFrancesaGYE
URL:https://afguayaquil.org.ec/af/event/julio-a-la-francesa/
LOCATION:Samborondon\, Samborondon\, Guayas\, Ecuador
CATEGORIES:Cultura,Entretenimiento
ATTACH;FMTTYPE=image/png:https://afguayaquil.org.ec/af/wp-content/uploads/2025/07/Programacion-Cultural-AFG-2025-2.png
END:VEVENT
END:VCALENDAR