BEGIN:VCALENDAR
VERSION:2.0
PRODID:-//Alianza Francesa de Guayaquil - ECPv6.15.20//NONSGML v1.0//EN
CALSCALE:GREGORIAN
METHOD:PUBLISH
X-WR-CALNAME:Alianza Francesa de Guayaquil
X-ORIGINAL-URL:https://afguayaquil.org.ec/af
X-WR-CALDESC:Eventos para Alianza Francesa de Guayaquil
REFRESH-INTERVAL;VALUE=DURATION:PT1H
X-Robots-Tag:noindex
X-PUBLISHED-TTL:PT1H
BEGIN:VTIMEZONE
TZID:America/Lima
BEGIN:STANDARD
TZOFFSETFROM:-0500
TZOFFSETTO:-0500
TZNAME:-05
DTSTART:20240101T000000
END:STANDARD
END:VTIMEZONE
BEGIN:VEVENT
DTSTART;VALUE=DATE:20251111
DTEND;VALUE=DATE:20251112
DTSTAMP:20260421T160537
CREATED:20251107T013553Z
LAST-MODIFIED:20251110T173001Z
UID:6475-1762819200-1762905599@afguayaquil.org.ec
SUMMARY:Exposición "Arte Digital\, Cultura Digital"
DESCRIPTION:¡El futuro del arte llega a #Guayaquil!\n\nLe invitamos a la inauguración de la exposición «Arte Digital\, Cultura Digital» de la artista internacional @hbakkali_art.\n\nMartes 11 de noviembre\n17h00\nGalería de la Alianza Francesa de Guayaquil – Sede Centro\n(Miguel Hurtado Antonio 436)\n\nSumérjase en una experiencia única que combina:\n✨ Arte físico + realidad aumentada\nExperiencias inmersivas universales\nInnovación tecnológica al servicio de la cultura\n\nEntrada libre — ¡no se quede fuera!\nExposición abierta del 11 de noviembre al 19 de diciembre\, de lunes a viernes\, 9h30 a 17h30.
URL:https://afguayaquil.org.ec/af/event/exposicion-arte-digital-cultura-digital/
LOCATION:Centro\, Hurtado 436 y jose mascote\, Guayaquil\, Guayas\, Ecuador
CATEGORIES:Cultura,Entretenimiento,Informativo
ATTACH;FMTTYPE=image/png:https://afguayaquil.org.ec/af/wp-content/uploads/2025/11/Opcion-1-Guayaquil.png
END:VEVENT
BEGIN:VEVENT
DTSTART;VALUE=DATE:20251119
DTEND;VALUE=DATE:20251120
DTSTAMP:20260421T160537
CREATED:20251110T204100Z
LAST-MODIFIED:20251110T204433Z
UID:6480-1763510400-1763596799@afguayaquil.org.ec
SUMMARY:Película “Eco de luz” de Misha Vallejo
DESCRIPTION:Como parte del Festival Equis\, estrenaremos en Guayaquil “Eco de luz” de Misha Vallejo. \nEn esta película\, el director explora su historia familiar con la cámara de su abuelo para reconstruir un álbum íntimo y poético\, donde la memoria y el perdón se entrelazan. \nhttps://afguayaquil.org.ec/af/wp-content/uploads/2025/11/AFGuayaquil-Plantillas-para-Feed-Funciones-Sedes-Satelite-2.mp4 \nMiércoles 19 de noviembre\n17h00\nAuditorio Alianza Francesa de Guayaquil – Sede Centro\nEntrada libre
URL:https://afguayaquil.org.ec/af/event/pelicula-eco-de-luz-de-misha-vallejo/
LOCATION:Centro\, Hurtado 436 y jose mascote\, Guayaquil\, Guayas\, Ecuador
CATEGORIES:Cultura,Entretenimiento
ATTACH;FMTTYPE=image/png:https://afguayaquil.org.ec/af/wp-content/uploads/2025/11/Una-Pelicula-Fecha-funcion-2.png
END:VEVENT
END:VCALENDAR