BEGIN:VCALENDAR
VERSION:2.0
PRODID:-//Alianza Francesa de Guayaquil - ECPv6.15.20//NONSGML v1.0//EN
CALSCALE:GREGORIAN
METHOD:PUBLISH
X-WR-CALNAME:Alianza Francesa de Guayaquil
X-ORIGINAL-URL:https://afguayaquil.org.ec/af
X-WR-CALDESC:Eventos para Alianza Francesa de Guayaquil
REFRESH-INTERVAL;VALUE=DURATION:PT1H
X-Robots-Tag:noindex
X-PUBLISHED-TTL:PT1H
BEGIN:VTIMEZONE
TZID:America/Lima
BEGIN:STANDARD
TZOFFSETFROM:-0500
TZOFFSETTO:-0500
TZNAME:-05
DTSTART:20240101T000000
END:STANDARD
END:VTIMEZONE
BEGIN:VEVENT
DTSTART;VALUE=DATE:20250616
DTEND;VALUE=DATE:20250722
DTSTAMP:20260422T123416
CREATED:20250617T025315Z
LAST-MODIFIED:20250723T010344Z
UID:6067-1750032000-1753142399@afguayaquil.org.ec
SUMMARY:Programa de fidelización
DESCRIPTION:Tenemos algo nuevo para ti!\n\n\n  \n\n\n\n\n\n\n\n\n\n\nView this post on Instagram\n\n\n\n\n\n\n\n\n\n\n\n\n\n\n\n\n\n\n\n\n\n\n  \nA post shared by Alianza Francesa de Guayaquil (@afguayaquil) \n\n\n \n 
URL:https://afguayaquil.org.ec/af/event/programa-de-fidelizacion/
CATEGORIES:Cursos,Educativo
ATTACH;FMTTYPE=image/jpeg:https://afguayaquil.org.ec/af/wp-content/uploads/2025/06/programa-de-fidelizacion-afguayaquil.jpeg
END:VEVENT
BEGIN:VEVENT
DTSTART;VALUE=DATE:20250717
DTEND;VALUE=DATE:20250723
DTSTAMP:20260422T123416
CREATED:20250717T182613Z
LAST-MODIFIED:20250723T145932Z
UID:6217-1752710400-1753228799@afguayaquil.org.ec
SUMMARY:Curso super intensivo para adultos
DESCRIPTION:Modo F1 activado: domina el francés en tiempo récord \n¿Listo para pisar el acelerador en tu aprendizaje?\nArranca como Sonny Hayes y conquista la pista… pero del idioma.\nNuestro curso superintensivo para adultos te lleva directo al podio del francés: \n✅ Clases de martes a jueves\n✅ Horario: 09h00 a 13h00\n✅ En nuestra sede Samborondón \nDel 22 al 31 de julio \n\nMás información al ‪+593 99 780 7922‬Si te perdiste la primera vuelta\, esta es tu segunda oportunidad.\n☝ ¡No la dejes pasar!
URL:https://afguayaquil.org.ec/af/event/curso-super-intensivo-para-adultos/
LOCATION:Samborondon\, Samborondon\, Guayas\, Ecuador
CATEGORIES:Cursos,Educativo
ATTACH;FMTTYPE=image/png:https://afguayaquil.org.ec/af/wp-content/uploads/2025/07/6_Superintensivo-Sambo_22-al-31.png
END:VEVENT
BEGIN:VEVENT
DTSTART;VALUE=DATE:20250717
DTEND;VALUE=DATE:20250806
DTSTAMP:20260422T123416
CREATED:20250717T183249Z
LAST-MODIFIED:20250717T183250Z
UID:6220-1752710400-1754438399@afguayaquil.org.ec
SUMMARY:Estudia o trabaja en Francia
DESCRIPTION:¿Quieres estudiar o trabajar en Francia?\n¡Este módulo es para ti! ✈ \n Nuevo módulo: RUMBO A FRANCIA\nAprende cómo postular correctamente para estudios o empleos en Francia:\n Hoja de vida\n Carta de presentación\n Entrevista \n✅ Modalidad presencial u online\n✅ Grupos pequeños (inicio: 5 de agosto) o clases particulares (inició: en cualquier momento)\n✅ Nivel requerido: B1+ de francés\n ¡Aprovecha el 10% de descuento! \n Más información al ‪+593 99 780 7922‬ \nPrepárate para dar el gran salto hacia tu futuro.
URL:https://afguayaquil.org.ec/af/event/estudia-o-trabaja-en-francia/
LOCATION:Centro\, Urdesa y Samborondon
CATEGORIES:Cursos,Educativo,Informativo
ATTACH;FMTTYPE=image/png:https://afguayaquil.org.ec/af/wp-content/uploads/2025/07/Modulo-Rumbo-a-Francia.png
END:VEVENT
END:VCALENDAR