BEGIN:VCALENDAR
VERSION:2.0
PRODID:-//Alianza Francesa de Guayaquil - ECPv6.15.20//NONSGML v1.0//EN
CALSCALE:GREGORIAN
METHOD:PUBLISH
X-ORIGINAL-URL:https://afguayaquil.org.ec/af
X-WR-CALDESC:Eventos para Alianza Francesa de Guayaquil
REFRESH-INTERVAL;VALUE=DURATION:PT1H
X-Robots-Tag:noindex
X-PUBLISHED-TTL:PT1H
BEGIN:VTIMEZONE
TZID:America/Lima
BEGIN:STANDARD
TZOFFSETFROM:-0500
TZOFFSETTO:-0500
TZNAME:-05
DTSTART:20240101T000000
END:STANDARD
END:VTIMEZONE
BEGIN:VEVENT
DTSTART;VALUE=DATE:20250415
DTEND;VALUE=DATE:20250427
DTSTAMP:20260422T201448
CREATED:20250416T032901Z
LAST-MODIFIED:20250428T024805Z
UID:5783-1744675200-1745711999@afguayaquil.org.ec
SUMMARY:¡CURSOS DE FRANCÉS!
DESCRIPTION:¡CURSOS ONLINE!\n\n\n\n\n\n\n\n\n\n\n\n\n\n\n\n\n\n\n\n\n\n\nNUEVA SESIÓN DE CURSOS PARA ADULTOS PRINCIPIANTES A1.1 ONLINE \nDEL 15 DE ABRIL HASTA EL 08 DE MAYO \nOnline  | De martes a jueves | 07h00-09h00 o 19h00-21h00 | A partir de 15 años \n\n\n\n\n\n\n\n\n\n\n\n\n\n\n\n\n\n\n\n\n\n\n\n\n\n\n\n\n\n\n\n\n\n\n\n\n\n\n\n\n\n\n\n\nQuiero más información sobre los cursos\n\n\n\n\n\n\n\n\n\n\n\n\n\n\n\n\n\n\n\n\n\n\n\n\n\n\n\n¡CURSOS EN MODALIDAD PRESENCIAL!\n\n\n\n\n\n\n\n\n\n\n\n\n\n\n\n\n\n\n\n\n\n\nNUEVA SESIÓN DE CURSOS PARA ADULTOS PRINCIPIANTES A1.1 EN SAMBORONDÓN \nDEL 15 DE ABRIL HASTA EL 08 DE MAYO \nPresencial | De martes a jueves | 09h00-11h00 o 17h00-19h00 o 19h00-21h00 | A partir de 15 años \n\n\n\n\n\n\n\n\n\n\n\n\n\n\n\n\n\n\n\n\n\n\n\n\n\n\n\n\n\n\n\n\n\n\n\n\n\n\n\nNUEVA SESIÓN DE CURSOS PARA ADULTOS PRINCIPIANTES A1.1 EN URDESA \nDEL 15 DE ABRIL HASTA EL 08 DE MAYO \nPresencial | De martes a jueves | 19h00-21h00 | A partir de 15 años \n\n\n\n\n\n\n\n\n\n\n\n\n\n\n\n\n\n\n\n\n\n\n\n\n\n\n\n\n\n\n\n\n\n\n\n\n\n\n\nNUEVA SESIÓN DE CURSOS PARA ADULTOS PRINCIPIANTES A1.1 EN EL CENTRO \nDEL 15 DE ABRIL HASTA EL 08 DE MAYO \nPresencial | De martes a jueves | 09h00-11h00 | A partir de 15 años \n\n\n\n\n\n\n\n\n\n\n\n\n\n\n\n\n\n\n\n\n\n\n\n\n\n\n\n\n\n\n\n\n\n\n\n\n\n\n\n\n\nQuiero más información sobre los cursos\n\n\n\n\n\n\n\n\n\n\n\n\n\n\n\n\n\n\n\n\n\n\n\n\n\n\n\n\n\n\n\n\n\n\n\n\n\n\n\n\n\n\n\n¡CURSOS SUPERINTENSIVOS!\n\n\n\n\n\n\n\n\n\n\n\n\n\n\n\n\n\n\n\n\n\n\nNUEVA SESIÓN DE CURSOS PARA ADULTOS PRINCIPIANTES A1.1 SUPERINTENSIVO \nDEL 15 DE ABRIL HASTA EL 24 DE ABRIL \nPresencial | Urdesa | De martes a jueves | 09h30-13h30 | A partir de 15 años \n\n\n\n\n\n\n\n\n\n\n\n\n\n\n\n\n\n\n\n\n\n\n\n\n\n\n\n\n\n\n\n\n\n\n\n\n\n\n\n\n\nQuiero más información sobre los superintensivos
URL:https://afguayaquil.org.ec/af/event/nueva-sesion-de-cursos-de-frances/
LOCATION:Centro\, Urdesa y Samborondon
CATEGORIES:Cursos,Educativo
ATTACH;FMTTYPE=image/png:https://afguayaquil.org.ec/af/wp-content/uploads/2025/04/cursos-de-frances-e1744775320427.png
END:VEVENT
END:VCALENDAR