BEGIN:VCALENDAR
VERSION:2.0
PRODID:-//Alianza Francesa de Guayaquil - ECPv6.15.20//NONSGML v1.0//EN
CALSCALE:GREGORIAN
METHOD:PUBLISH
X-ORIGINAL-URL:https://afguayaquil.org.ec/af
X-WR-CALDESC:Eventos para Alianza Francesa de Guayaquil
REFRESH-INTERVAL;VALUE=DURATION:PT1H
X-Robots-Tag:noindex
X-PUBLISHED-TTL:PT1H
BEGIN:VTIMEZONE
TZID:America/Lima
BEGIN:STANDARD
TZOFFSETFROM:-0500
TZOFFSETTO:-0500
TZNAME:-05
DTSTART:20240101T000000
END:STANDARD
END:VTIMEZONE
BEGIN:VEVENT
DTSTART;VALUE=DATE:20250404
DTEND;VALUE=DATE:20250426
DTSTAMP:20260422T201357
CREATED:20250402T180522Z
LAST-MODIFIED:20250402T180742Z
UID:5711-1743724800-1745625599@afguayaquil.org.ec
SUMMARY:Viernes Culturales Abril
DESCRIPTION:¡ ́        ! \nEste mes estaremos en la sede de\n : Actividad ‘Mejora tu francés cantando’ – con Géraldine – AF Urdesa\n : Actividad ‘La Mode’ – con Lara – AF Urdesa\n : Feriado\n : Actividad «Aprende sobre pintura» Corrientes artísticas con Guillermo – AF Urdesa
URL:https://afguayaquil.org.ec/af/event/viernes-culturales-abril/
LOCATION:Urdesa\, Datiles\, Guayaquil\, Guayas\, 0001\, Ecuador
CATEGORIES:Cultura,Educativo
ATTACH;FMTTYPE=image/jpeg:https://afguayaquil.org.ec/af/wp-content/uploads/2025/04/Viernes-culturales-guayaquil-frances-Abril.jpg
END:VEVENT
END:VCALENDAR