BEGIN:VCALENDAR
VERSION:2.0
PRODID:-//Alianza Francesa de Guayaquil - ECPv6.15.20//NONSGML v1.0//EN
CALSCALE:GREGORIAN
METHOD:PUBLISH
X-WR-CALNAME:Alianza Francesa de Guayaquil
X-ORIGINAL-URL:https://afguayaquil.org.ec/af
X-WR-CALDESC:Eventos para Alianza Francesa de Guayaquil
REFRESH-INTERVAL;VALUE=DURATION:PT1H
X-Robots-Tag:noindex
X-PUBLISHED-TTL:PT1H
BEGIN:VTIMEZONE
TZID:America/Lima
BEGIN:STANDARD
TZOFFSETFROM:-0500
TZOFFSETTO:-0500
TZNAME:-05
DTSTART:20240101T000000
END:STANDARD
END:VTIMEZONE
BEGIN:VEVENT
DTSTART;VALUE=DATE:20250307
DTEND;VALUE=DATE:20250329
DTSTAMP:20260422T215304
CREATED:20250313T163140Z
LAST-MODIFIED:20250402T175822Z
UID:5491-1741305600-1743206399@afguayaquil.org.ec
SUMMARY:Viernes Culturales
DESCRIPTION:¡La agenda de los viernes culturales ya está lista! Con un poco de retraso es cierto pero igual\, ya saben que cada viernes proponemos actividades culturales. \nEste mes estaremos en las sedes de Samborondón y de Centro :\n07/03 : Juegos de mesa – AF Samborondón\n14/03 : Juegos de vocabulario – AF Samborondón\n⚡21/03 : Taller «Mundo sin fin» (programación mes de la francofonía) – AF Centro\n28/03 : Proyección de cine (programación mes de la francofonía) – AF Centro \nTodas las actividades son GRATIS para nuestros estudiantes. Si no eres estudiante\, puedes participar por un costo de $5 para todo el mes.\nhttps://www.instagram.com/p/DG3qOIrxMeR/?igsh=OWY2dXh1NHR6MWp4
URL:https://afguayaquil.org.ec/af/event/viernes-culturales/
LOCATION:Centro y Samborondon\, Guayaquil\, Guayas\, Ecuador
CATEGORIES:Cultura,Cursos,Educativo,Entretenimiento
ATTACH;FMTTYPE=image/jpeg:https://afguayaquil.org.ec/af/wp-content/uploads/2025/03/2025-03-12-at-9.47.27-PM.jpeg
END:VEVENT
BEGIN:VEVENT
DTSTART;TZID=America/Lima:20250314T180000
DTEND;TZID=America/Lima:20250404T200000
DTSTAMP:20260422T215304
CREATED:20250313T031938Z
LAST-MODIFIED:20250313T175202Z
UID:5459-1741975200-1743796800@afguayaquil.org.ec
SUMMARY:Taller de Conversación B1-B2
DESCRIPTION:Atelier conversation ON LINE Nivel B1-B2 \n4 semanas 14 marzo al 4 de abril \nCada viernes de 18:00 a 20:00 \nExclusivo para estudiantes AF
URL:https://afguayaquil.org.ec/af/event/taller-de-conversacion/
LOCATION:ON LINE gratuito
CATEGORIES:Cursos,Educativo
ATTACH;FMTTYPE=image/jpeg:https://afguayaquil.org.ec/af/wp-content/uploads/2025/03/2025-03-12-at-9.36.55-PM.jpeg
END:VEVENT
BEGIN:VEVENT
DTSTART;TZID=America/Lima:20250314T180000
DTEND;TZID=America/Lima:20250404T200000
DTSTAMP:20260422T215304
CREATED:20250313T034537Z
LAST-MODIFIED:20250313T175130Z
UID:5463-1741975200-1743796800@afguayaquil.org.ec
SUMMARY:Taller de Conversación A1-A2
DESCRIPTION:Atelier conversation ON LINE Nivel A1-A2 \n4 semanas 14 marzo al 4 de abril \nCada viernes de 18:00 a 20:00 \nExclusivo para estudiantes AF
URL:https://afguayaquil.org.ec/af/event/taller-de-conversacion-2/
LOCATION:ON LINE gratuito
CATEGORIES:Cursos,Educativo
ATTACH;FMTTYPE=image/jpeg:https://afguayaquil.org.ec/af/wp-content/uploads/2025/03/2025-03-12-at-9.36.56-PM.jpeg
END:VEVENT
END:VCALENDAR