BEGIN:VCALENDAR
VERSION:2.0
PRODID:-//Alianza Francesa de Guayaquil - ECPv6.15.20//NONSGML v1.0//EN
CALSCALE:GREGORIAN
METHOD:PUBLISH
X-ORIGINAL-URL:https://afguayaquil.org.ec/af
X-WR-CALDESC:Eventos para Alianza Francesa de Guayaquil
REFRESH-INTERVAL;VALUE=DURATION:PT1H
X-Robots-Tag:noindex
X-PUBLISHED-TTL:PT1H
BEGIN:VTIMEZONE
TZID:America/Lima
BEGIN:STANDARD
TZOFFSETFROM:-0500
TZOFFSETTO:-0500
TZNAME:-05
DTSTART:20240101T000000
END:STANDARD
END:VTIMEZONE
BEGIN:VEVENT
DTSTART;TZID=America/Lima:20250221T170000
DTEND;TZID=America/Lima:20250221T190000
DTSTAMP:20260422T234333
CREATED:20241121T151012Z
LAST-MODIFIED:20250203T215507Z
UID:114-1740157200-1740164400@afguayaquil.org.ec
SUMMARY:Casa Abierta
DESCRIPTION:Clases demostrativas de francés gratis. Para niños\, adolescentes y adultos. \nBajo inscripción previa hasta el 19 de febrero. Más información +593993762828 \n 
URL:https://afguayaquil.org.ec/af/event/casa-abierta-de-frances/
LOCATION:Samborondon\, Samborondon\, Guayas\, Ecuador
CATEGORIES:Educativo,Entretenimiento
ATTACH;FMTTYPE=image/png:https://afguayaquil.org.ec/af/wp-content/uploads/2025/02/Casa-abierta-.png
END:VEVENT
END:VCALENDAR