BEGIN:VCALENDAR
VERSION:2.0
PRODID:-//Alianza Francesa de Guayaquil - ECPv6.15.20//NONSGML v1.0//EN
CALSCALE:GREGORIAN
METHOD:PUBLISH
X-WR-CALNAME:Alianza Francesa de Guayaquil
X-ORIGINAL-URL:https://afguayaquil.org.ec/af
X-WR-CALDESC:Eventos para Alianza Francesa de Guayaquil
REFRESH-INTERVAL;VALUE=DURATION:PT1H
X-Robots-Tag:noindex
X-PUBLISHED-TTL:PT1H
BEGIN:VTIMEZONE
TZID:America/Lima
BEGIN:STANDARD
TZOFFSETFROM:-0500
TZOFFSETTO:-0500
TZNAME:-05
DTSTART:20230101T000000
END:STANDARD
END:VTIMEZONE
BEGIN:VEVENT
DTSTART;TZID=America/Lima:20240210T173000
DTEND;TZID=America/Lima:20250210T190000
DTSTAMP:20260423T014524
CREATED:20241120T192034Z
LAST-MODIFIED:20250203T222711Z
UID:1144-1707586200-1739214000@afguayaquil.org.ec
SUMMARY:Presentación del libro "Amerika Prohibido 4 "
DESCRIPTION:«Amerika Prohibido 4 – El código Amaru» del autor Manuel Palacios Villavicencio (cafetería abierta)
URL:https://afguayaquil.org.ec/af/event/presentacion-del-libro-amerika-prohibido-4/
LOCATION:Auditorio Af Centro\, Hurtado 436 y José Mascote\, Guayaquil\, Guayas\, Ecuador
CATEGORIES:Educativo
ATTACH;FMTTYPE=image/png:https://afguayaquil.org.ec/af/wp-content/uploads/2025/02/El-codigo-Amaru.png
END:VEVENT
END:VCALENDAR