BEGIN:VCALENDAR
VERSION:2.0
PRODID:-//Alianza Francesa de Guayaquil - ECPv6.15.20//NONSGML v1.0//EN
CALSCALE:GREGORIAN
METHOD:PUBLISH
X-ORIGINAL-URL:https://afguayaquil.org.ec/af
X-WR-CALDESC:Eventos para Alianza Francesa de Guayaquil
REFRESH-INTERVAL;VALUE=DURATION:PT1H
X-Robots-Tag:noindex
X-PUBLISHED-TTL:PT1H
BEGIN:VTIMEZONE
TZID:America/Lima
BEGIN:STANDARD
TZOFFSETFROM:-0500
TZOFFSETTO:-0500
TZNAME:-05
DTSTART:20240101T000000
END:STANDARD
END:VTIMEZONE
BEGIN:VEVENT
DTSTART;VALUE=DATE:20250506
DTEND;VALUE=DATE:20250522
DTSTAMP:20260422T161046
CREATED:20250428T024332Z
LAST-MODIFIED:20250522T154551Z
UID:5813-1746489600-1747871999@afguayaquil.org.ec
SUMMARY:CURSOS DE FRANCÉS mayo
DESCRIPTION: 
URL:https://afguayaquil.org.ec/af/event/cursos-de-frances-para-mayo/
LOCATION:Centro\, Urdesa y Samborondon
CATEGORIES:Cursos,Educativo
ATTACH;FMTTYPE=image/jpeg:https://afguayaquil.org.ec/af/wp-content/uploads/2025/04/cursos-clases-de-frances-mayo.jpg
END:VEVENT
BEGIN:VEVENT
DTSTART;VALUE=DATE:20250516
DTEND;VALUE=DATE:20250531
DTSTAMP:20260422T161046
CREATED:20250517T161016Z
LAST-MODIFIED:20250517T164943Z
UID:5857-1747353600-1748649599@afguayaquil.org.ec
SUMMARY:Inscripciones DELF/DALF abiertas!
DESCRIPTION:¡Desde hoy hasta el 30 de mayo! \nObtén tu Certificación oficial de francés con los exámenes DELF/DALF.\nFechas de examen: del 9 al 12 de junio \n¿Vas a rendir el DELF B1 o B2 y no tienes tiempo para estudiar?\nCon nuestra plataforma PrepMyFuture puedes prepararte desde cualquier lugar y a cualquier hora:\n✔ De forma autónoma\n✔ O con tutorías guiadas\n✔ Acceso ilimitado por 1 año \n \n☝ ¡Solo necesitas una computadora con Internet!\n. No hay excusas. ¡Es momento de certificar tu francés! \n \nMás información al: +593 997 807 922
URL:https://afguayaquil.org.ec/af/event/delfdalfjunio25/
LOCATION:Centro\, Urdesa y Samborondon
CATEGORIES:Cursos,Educativo
ATTACH;FMTTYPE=image/png:https://afguayaquil.org.ec/af/wp-content/uploads/2025/05/examenes-delf-guayaquil-2.png
END:VEVENT
BEGIN:VEVENT
DTSTART;VALUE=DATE:20250516
DTEND;VALUE=DATE:20250601
DTSTAMP:20260422T161046
CREATED:20250517T170146Z
LAST-MODIFIED:20250617T145317Z
UID:5874-1747353600-1748735999@afguayaquil.org.ec
SUMMARY:Preparación Exámenes DELF B1 y B2
DESCRIPTION:Obtén tu Certificación oficial de francés con los exámenes DELF/DALF.\nFechas de examen: del 9 al 12 de junio \n¿Vas a rendir el DELF B1 o B2 y no tienes tiempo para estudiar?\nCon nuestra plataforma PrepMyFuture puedes prepararte desde cualquier lugar y a cualquier hora:\n✔ De forma autónoma\n✔ O con tutorías guiadas\n✔ Acceso ilimitado por 1 año \n☝ ¡Solo necesitas una computadora con Internet!\n. No hay excusas. ¡Es momento de certificar tu francés! \n \nMás información al: +593 997 807 922
URL:https://afguayaquil.org.ec/af/event/preparacion-examenes-delf-b1-y-b2/
LOCATION:Centro\, Urdesa y Samborondon
CATEGORIES:Cursos,Educativo
ATTACH;FMTTYPE=image/png:https://afguayaquil.org.ec/af/wp-content/uploads/2025/05/examenes-delf-guayaquil-3.png
END:VEVENT
BEGIN:VEVENT
DTSTART;VALUE=DATE:20250525
DTEND;VALUE=DATE:20250608
DTSTAMP:20260422T161046
CREATED:20250526T033218Z
LAST-MODIFIED:20250617T145025Z
UID:5942-1748131200-1749340799@afguayaquil.org.ec
SUMMARY:Cursos de Francés para adolescentes (junio)
DESCRIPTION:El francés es el nuevo superpoder de los adolescentes \nPara chicos de entre 11 y 14 años \nPresencial en Urdesa y Samborondón \nSábados\, del 7 de junio al 2 de agosto \nHorario: 14h00 – 17h00 \nClases dinámicas\, grupos reducidos y enfoque cultural. \nIdeal para descubrir un nuevo idioma desde temprano. \nMás información: +593 99 780 7922 \n 
URL:https://afguayaquil.org.ec/af/event/cursos-de-frances-para-adolescentes-junio/
LOCATION:Urdesa y Samborondon
CATEGORIES:Cursos,Educativo
ATTACH;FMTTYPE=image/jpeg:https://afguayaquil.org.ec/af/wp-content/uploads/2025/05/cursos-de-frances-para-adolescentes-junio.jpeg
END:VEVENT
BEGIN:VEVENT
DTSTART;VALUE=DATE:20250525
DTEND;VALUE=DATE:20250611
DTSTAMP:20260422T161046
CREATED:20250526T041109Z
LAST-MODIFIED:20250617T145623Z
UID:5953-1748131200-1749599999@afguayaquil.org.ec
SUMMARY:Cursos de Francés para adultos (junio)
DESCRIPTION:Descubre el francés y abre tu mundo a nuevas oportunidades \n¿Quieres aprender un nuevo idioma y conectar con el mundo? \nEste es el momento perfecto para empezar. \nInicio de clases: 10 de junio \nHorarios flexibles entre semana \nModalidades: presencial y online \nSedes: Urdesa\, Centro y Samborondón \nAprende a comunicarte en francés con fluidez\, mientras exploras la cultura\, el arte y la diversidad del mundo francófono. \nMás información: +593 99 780 7922
URL:https://afguayaquil.org.ec/af/event/cursos-de-frances-para-adultos-junio/
LOCATION:Centro\, Urdesa y Samborondon
CATEGORIES:Cursos,Educativo
ATTACH;FMTTYPE=image/jpeg:https://afguayaquil.org.ec/af/wp-content/uploads/2025/05/cursos-de-frances-para-adultos-junio-0-e1748233046153.jpeg
END:VEVENT
BEGIN:VEVENT
DTSTART;VALUE=DATE:20250528
DTEND;VALUE=DATE:20250601
DTSTAMP:20260422T161046
CREATED:20250522T153633Z
LAST-MODIFIED:20250617T151437Z
UID:5936-1748390400-1748735999@afguayaquil.org.ec
SUMMARY:Taller de conversación jun-Jul
DESCRIPTION:No pierdas tu francés\, practícalo de forma creativa! \nÚnete a nuestro Taller de conversación y mejora tu fluidez en un ambiente dinámico y divertido. \n\nNivel requerido: B2\nDel 28 de mayo al 2 de Julio\nDuración: 6 semanas\nTodos los miércoles\nOnline\nHorarios: 17h00 a 19h00 / 19h00 a 21h00\nMas información e inscripciones: +593 99 780 7922\n\n¡Reserva tu cupo y sigue perfeccionando tu francés con nosotros! ✨
URL:https://afguayaquil.org.ec/af/event/taller-de-conversacion-jun-jul/
LOCATION:On LINE
CATEGORIES:Cursos,Educativo
ATTACH;FMTTYPE=image/jpeg:https://afguayaquil.org.ec/af/wp-content/uploads/2025/05/taller-de-conversacion-frances.jpeg
END:VEVENT
BEGIN:VEVENT
DTSTART;TZID=America/Lima:20250530T173000
DTEND;TZID=America/Lima:20250530T193000
DTSTAMP:20260422T161046
CREATED:20250521T053138Z
LAST-MODIFIED:20250522T151119Z
UID:5927-1748626200-1748633400@afguayaquil.org.ec
SUMMARY:Viernes Cultural mayo 30 (Libre)
DESCRIPTION:Te invitamos a una tarde llena de arte\, literatura y sorpresas en la Alianza Francesa. No te lo pierdas! \n17h30 – 18h30 \nExpo: El impresionismo en acción \nUna exposición participativa con afiches\, juegos\, manualidades\, ¡y un toque artístico! \nPersonaliza tu bolso o vaso \n‍ Actividad dirigida por Carla Salinas \n  \n18h30 – 19h30 \n«La vida secreta de los gigantes de la literatura francesa» \nDe La Fontaine a Saint-Exupéry\, descubre sus obras emblemáticas y anécdotas curiosas sobre su vida. \nUn viaje literario único con datos fascinantes\, historias inesperadas y un quiz final divertido. \nPresentado por Geraldine BOUR \nEntrada libre \nAlianza Francesa de Guayaquil sede Urdesa \nBajo inscripción en el formulario de nuestro linktr.ee \nhttps://linktr.ee/afguayaquil?utm_source=qr_code \n \nUna tarde para aprender\, crear y disfrutar!: ́
URL:https://afguayaquil.org.ec/af/event/viernes-cultural-viernes-mayo-30/
LOCATION:Urdesa\, Datiles\, Guayaquil\, Guayas\, 0001\, Ecuador
CATEGORIES:Cultura,Educativo,Entretenimiento
ATTACH;FMTTYPE=image/jpeg:https://afguayaquil.org.ec/af/wp-content/uploads/2025/05/viernes-cultural-mayo30.jpeg
END:VEVENT
END:VCALENDAR