BEGIN:VCALENDAR
VERSION:2.0
PRODID:-//Alianza Francesa de Guayaquil - ECPv6.15.20//NONSGML v1.0//EN
CALSCALE:GREGORIAN
METHOD:PUBLISH
X-WR-CALNAME:Alianza Francesa de Guayaquil
X-ORIGINAL-URL:https://afguayaquil.org.ec/af
X-WR-CALDESC:Eventos para Alianza Francesa de Guayaquil
REFRESH-INTERVAL;VALUE=DURATION:PT1H
X-Robots-Tag:noindex
X-PUBLISHED-TTL:PT1H
BEGIN:VTIMEZONE
TZID:America/Lima
BEGIN:STANDARD
TZOFFSETFROM:-0500
TZOFFSETTO:-0500
TZNAME:-05
DTSTART:20240101T000000
END:STANDARD
END:VTIMEZONE
BEGIN:VEVENT
DTSTART;VALUE=DATE:20251003
DTEND;VALUE=DATE:20251104
DTSTAMP:20260420T160101
CREATED:20250917T042501Z
LAST-MODIFIED:20250926T214443Z
UID:6369-1759449600-1762214399@afguayaquil.org.ec
SUMMARY:¿Listo para certificar tu francés?
DESCRIPTION:¿Listo para certificar tu francés?\n¡Tenemos una excelente noticia para nuestros estudiantes!Aprovecha un 40% de descuento en tu inscripción al DELF\, la certificación oficial del idioma francés reconocida internacionalmente. \nEsta oferta exclusiva es válida solo para nuestros estudiantes actuales.\n¡Es tu oportunidad de validar tus conocimientos con un diploma que abre puertas en todo el mundo! \nMás información al ‪+593 99 780 7922‬
URL:https://afguayaquil.org.ec/af/event/listo-para-certificar-tu-frances/
LOCATION:Centro\, Urdesa y Samborondon
CATEGORIES:Informativo
ATTACH;FMTTYPE=image/png:https://afguayaquil.org.ec/af/wp-content/uploads/2025/09/Descuento-DELF-40_1-e1758082940784.png
END:VEVENT
BEGIN:VEVENT
DTSTART;VALUE=DATE:20251009
DTEND;VALUE=DATE:20251103
DTSTAMP:20260420T160101
CREATED:20251007T004547Z
LAST-MODIFIED:20251007T012524Z
UID:6437-1759968000-1762127999@afguayaquil.org.ec
SUMMARY:Mediateca de la Alianza Francesa de Guayaquil
DESCRIPTION:La Mediateca de la Alianza Francesa de Guayaquil te espera ✨ \nTodos los jueves de octubre\n⏰ 11h00 a 12h30 y de 13h00 a 15h30\n( horario vigente del 9 al 30 de octubre)\nMediateca | Centro | Hurtado 436 y Mascote \nDescubre un espacio lleno de libros \, historietas \, juegos de mesa y mucho más\, para todas las edades y niveles. \nEl acceso es gratuito para nuestros estudiantes.\n¡Aprovecha la oportunidad de reconectar con el placer de la lectura! \nMas información
URL:https://afguayaquil.org.ec/af/event/mediateca-de-la-alianza-francesa-de-guayaquil/
LOCATION:Centro\, Hurtado 436 y jose mascote\, Guayaquil\, Guayas\, Ecuador
CATEGORIES:Informativo
ATTACH;FMTTYPE=image/png:https://afguayaquil.org.ec/af/wp-content/uploads/2025/10/Horarios-mediateca-1-al-3-de-abril-e1759797748167.png
END:VEVENT
END:VCALENDAR